BEGIN:VCALENDAR
VERSION:2.0
PRODID:-//Contratero//ES
CALSCALE:GREGORIAN
METHOD:PUBLISH
BEGIN:VEVENT
UID:69/2022 SV PASS@contratero.es
DTSTAMP:20260422T044615Z
DTSTART:20221227T235959
DTEND:20221228T005959
SUMMARY:Cierre: Es objeto de esta licitación la contratación del s
DESCRIPTION:Es objeto de esta licitación la contratación del servicio mantenimiento y asistencia técnica del sistema integrado de gestión bibliotecaria “AbsysNET” con el que se pretende mantener actualizadas la a...\\n\\nOrganismo: Presidencia de la Diputación Provincial de Cáceres\\n\\nVer en Contratero: https://contratero.es/contracts/69/2022 SV PASS
URL:https://contratero.es/contracts/69/2022 SV PASS
STATUS:CONFIRMED
BEGIN:VALARM
TRIGGER:-P1D
ACTION:DISPLAY
DESCRIPTION:Recordatorio: Es objeto de esta licitación l
END:VALARM
END:VEVENT
END:VCALENDAR